BEGIN:VCALENDAR
VERSION:2.0
PRODID:-//Memphis Coalition for Life - ECPv5.2.1.1//NONSGML v1.0//EN
CALSCALE:GREGORIAN
METHOD:PUBLISH
X-WR-CALNAME:Memphis Coalition for Life
X-ORIGINAL-URL:https://memphiscoalitionforlife.org
X-WR-CALDESC:Events for Memphis Coalition for Life
BEGIN:VTIMEZONE
TZID:America/Chicago
BEGIN:DAYLIGHT
TZOFFSETFROM:-0600
TZOFFSETTO:-0500
TZNAME:CDT
DTSTART:20240310T080000
END:DAYLIGHT
BEGIN:STANDARD
TZOFFSETFROM:-0500
TZOFFSETTO:-0600
TZNAME:CST
DTSTART:20241103T070000
END:STANDARD
END:VTIMEZONE
BEGIN:VEVENT
DTSTART;TZID=America/Chicago:20240214T060000
DTEND;TZID=America/Chicago:20240324T180000
DTSTAMP:20260421T153806
CREATED:20240104T165717Z
LAST-MODIFIED:20240104T165717Z
UID:36197-1707890400-1711303200@memphiscoalitionforlife.org
SUMMARY:Spring 2024 40 Days for Life Prayer Vigil
DESCRIPTION:The on-site prayer campaign begins on February 14th\, so spread the word! \nCampaign Details: \nWhat: Local Christians come together to pray on-site outside Planned Parenthood. Planned Parenthood is a local abortion-referral center that sends our Memphis moms to Illinois to abort their unborn children. So\, join us to pray for the moms and dads facing crisis pregnancies in those vital moments before they commit to kill their unborn child! \nWhen: February 14th-March 24th\, 6am-6pm\, 7 days/week. \nWhere: Sidewalk outside Planned Parenthood\, 2430 Poplar Avenue. \nSign up for hours: www.40daysforlife.com/memphis \n \n 
URL:https://memphiscoalitionforlife.org/event/spring-2024-40-days-for-life-prayer-vigil/
LOCATION:Public right-of-way\, 1726 Poplar Avenue\, Memphis\, TN\, 38104
END:VEVENT
BEGIN:VEVENT
DTSTART;TZID=America/Chicago:20240227T190000
DTEND;TZID=America/Chicago:20240227T203000
DTSTAMP:20260421T153806
CREATED:20240213T180109Z
LAST-MODIFIED:20240213T180109Z
UID:38329-1709060400-1709065800@memphiscoalitionforlife.org
SUMMARY:Help Them Have Birthdays-With Dr. Haywood Robinson
DESCRIPTION:* RSVP required * Join us for an inspiring evening on February 27th at 7pm as we welcome Dr. Haywood Robinson\, a former abortionist turned pro-life advocate\, to our event “Help Them Have Birthdays.” Dr. Robinson will share his powerful journey and insights on how local prayer campaigns\, like our Spring 40 Days for Life\, can save unborn babies\, even in abortion-banned states. Whether you’re new to 40 Days for Life or seasoned in sidewalk advocacy\, this event is for you! Let’s come together to learn\, be inspired\, and take action to protect the sanctity of life. Don’t miss out – mark your calendars and invite your friends! \n\nJoin us to learn how YOU can be part of the solution! \n\nDIRECTOR\, MEDICAL AFFAIRS & EDUCATION  \nHaywood Robinson\, M.D. was born in Los Angeles\, California. He attended college and medical school in Southern California and received specialty training in family medicine at Martin Luther King/Charles R. Drew Medical Center in Los Angeles. \nHaywood and his late wife Noreen Johnson\, M.D. met as residents at King/Drew Medical Center where they learned to perform the abortion procedure. They later worked together as abortionists. Since his salvation in 1986\, pro-life work has been a passion for Haywood. He and Noreen practiced medicine together until retirement in 2019. Noreen passed away in 2021. Before her passing\, Haywood and Noreen wrote of their conversion in Scalpel and the Soul\, which was just released in 2023. \nHaywood has since remarried. He and his wife\, Daphne Robinson\, serve together in family\, life and pregnancy care ministry and missions. Collectively\, they have eight children\, five grandchildren\, and one great grandchild.
URL:https://memphiscoalitionforlife.org/event/help-them-have-birthdays-with-dr-haywood-robinson/
LOCATION:First Evangelical Church\, 735 Ridge Lake Blvd\, Memphis\, TN\, 38120\, United States
END:VEVENT
END:VCALENDAR