BEGIN:VCALENDAR
VERSION:2.0
PRODID:-//Memphis Coalition for Life - ECPv5.2.1.1//NONSGML v1.0//EN
CALSCALE:GREGORIAN
METHOD:PUBLISH
X-WR-CALNAME:Memphis Coalition for Life
X-ORIGINAL-URL:https://memphiscoalitionforlife.org
X-WR-CALDESC:Events for Memphis Coalition for Life
BEGIN:VTIMEZONE
TZID:America/Chicago
BEGIN:DAYLIGHT
TZOFFSETFROM:-0600
TZOFFSETTO:-0500
TZNAME:CDT
DTSTART:20190310T080000
END:DAYLIGHT
BEGIN:STANDARD
TZOFFSETFROM:-0500
TZOFFSETTO:-0600
TZNAME:CST
DTSTART:20191103T070000
END:STANDARD
END:VTIMEZONE
BEGIN:VEVENT
DTSTART;TZID=America/Chicago:20190426T173000
DTEND;TZID=America/Chicago:20190427T180000
DTSTAMP:20260421T033614
CREATED:20190301T005524Z
LAST-MODIFIED:20190301T005524Z
UID:2187-1556299800-1556388000@memphiscoalitionforlife.org
SUMMARY:Mobilize Memphis: Pro-Life Missions Conference
DESCRIPTION:Mobilize Memphis is the first local\, pro-life missions conference in Memphis\, TN! This is a conference by Memphians for Memphians! Our aim is to practically equip you to make a real difference in your own community! From dynamic speakers to informative sessions and panels\, you will find yourself with the knowledge and tools necessary to get involved in ending abortion right in your own backyard! \n  \n 
URL:https://memphiscoalitionforlife.org/event/mobilize-memphis-pro-life-missions-conference/
LOCATION:Collierville Bible Church\, 806 Wolf River Boulevard\, Collierville\, TN\, 38017\, United States
END:VEVENT
END:VCALENDAR